BEGIN:VCALENDAR
VERSION:2.0
PRODID:-//Khartoum - ECPv6.15.20//NONSGML v1.0//EN
CALSCALE:GREGORIAN
METHOD:PUBLISH
X-WR-CALNAME:Khartoum
X-ORIGINAL-URL:https://khartoumlounge.com
X-WR-CALDESC:Events for Khartoum
REFRESH-INTERVAL;VALUE=DURATION:PT1H
X-Robots-Tag:noindex
X-PUBLISHED-TTL:PT1H
BEGIN:VTIMEZONE
TZID:America/Los_Angeles
BEGIN:DAYLIGHT
TZOFFSETFROM:-0800
TZOFFSETTO:-0700
TZNAME:PDT
DTSTART:20250309T100000
END:DAYLIGHT
BEGIN:STANDARD
TZOFFSETFROM:-0700
TZOFFSETTO:-0800
TZNAME:PST
DTSTART:20251102T090000
END:STANDARD
BEGIN:DAYLIGHT
TZOFFSETFROM:-0800
TZOFFSETTO:-0700
TZNAME:PDT
DTSTART:20260308T100000
END:DAYLIGHT
BEGIN:STANDARD
TZOFFSETFROM:-0700
TZOFFSETTO:-0800
TZNAME:PST
DTSTART:20261101T090000
END:STANDARD
BEGIN:DAYLIGHT
TZOFFSETFROM:-0800
TZOFFSETTO:-0700
TZNAME:PDT
DTSTART:20270314T100000
END:DAYLIGHT
BEGIN:STANDARD
TZOFFSETFROM:-0700
TZOFFSETTO:-0800
TZNAME:PST
DTSTART:20271107T090000
END:STANDARD
END:VTIMEZONE
BEGIN:VEVENT
DTSTART;TZID=America/Los_Angeles:20260420T210000
DTEND;TZID=America/Los_Angeles:20260421T020000
DTSTAMP:20260418T195240
CREATED:20250411T033907Z
LAST-MODIFIED:20250411T205243Z
UID:10000054-1776718800-1776736800@khartoumlounge.com
SUMMARY:Industry Night
DESCRIPTION:Bring in your Khartoum Industry Card and get 50% off any drink in the house. \n        View this post on Instagram            A post shared by Khartoum 🍻 (@khartoumlounge) \nBring in your Khartoum Industry Card and get 50% off any drink in the house. \n        View this post on Instagram            A post shared by Khartoum 🍻 (@khartoumlounge) \n\n	\n		\n\n			\n			\n\n							\n					\n						Upcoming Events					\n				\n			\n			\n				\n											\n\n	\n	\n		\n			Apr		\n		\n			20		\n	\n\n\n	\n		\n			\n\n				\n					\n		\n		April 20 @ 9:00 pm - 2:00 am\n\n	\n		\n\n	\n	\n	\n\n	\n\n	\n	\n\n	\n		\n\n	\n	\n	\n\n	\n\n\n					\n	\n		Industry Night	\n\n				\n\n				\n			\n		\n	\n\n\n											\n\n	\n	\n		\n			Apr		\n		\n			22		\n	\n\n\n	\n		\n			\n\n				\n					\n		\n		April 22 @ 9:30 pm - 2:00 am\n\n	\n		\n\n	\n	\n	\n\n	\n\n	\n	\n\n	\n		\n\n	\n	\n	\n\n	\n\n\n					\n	\n		Karaoke	\n\n				\n\n				\n			\n		\n	\n\n\n											\n\n	\n	\n		\n			Apr		\n		\n			23		\n	\n\n\n	\n		\n			\n\n				\n					\n		\n		April 23 @ 9:30 pm - 2:00 am\n\n	\n		\n\n	\n	\n	\n\n	\n\n	\n	\n\n	\n		\n\n	\n	\n	\n\n	\n\n\n					\n	\n		Karaoke	\n\n				\n\n				\n			\n		\n	\n\n\n											\n\n	\n	\n		\n			Apr		\n		\n			27		\n	\n\n\n	\n		\n			\n\n				\n					\n		\n		April 27 @ 9:00 pm - 2:00 am	\n	\n\n	\n		\n\n	\n	\n	\n\n	\n\n\n					\n	\n		Industry Night	\n\n				\n\n				\n			\n		\n	\n\n\n											\n\n	\n	\n		\n			Apr		\n		\n			29		\n	\n\n\n	\n		\n			\n\n				\n					\n		\n		April 29 @ 9:30 pm - 2:00 am	\n	\n\n	\n		\n\n	\n	\n	\n\n	\n\n\n					\n	\n		Karaoke	\n\n				\n\n				\n			\n		\n	\n\n\n									\n\n				\n	\n		View Calendar
URL:https://khartoumlounge.com/event/industry-night/2026-04-20/
END:VEVENT
BEGIN:VEVENT
DTSTART;TZID=America/Los_Angeles:20260422T213000
DTEND;TZID=America/Los_Angeles:20260423T020000
DTSTAMP:20260418T195240
CREATED:20250411T051758Z
LAST-MODIFIED:20250423T172226Z
UID:10000315-1776893400-1776909600@khartoumlounge.com
SUMMARY:Karaoke
DESCRIPTION:DJ Davey K | Karaoke Wednesdays \nSorry\, your browser doesn't support embedded videos.DJ Davey K | Karaoke Wednesdays \nSorry\, your browser doesn't support embedded videos.\n	\n		\n\n			\n			\n\n							\n					\n						Upcoming Events					\n				\n			\n			\n				\n											\n\n	\n	\n		\n			Apr		\n		\n			20		\n	\n\n\n	\n		\n			\n\n				\n					\n		\n		April 20 @ 9:00 pm - 2:00 am\n\n	\n		\n\n	\n	\n	\n\n	\n\n	\n	\n\n	\n		\n\n	\n	\n	\n\n	\n\n\n					\n	\n		Industry Night	\n\n				\n\n				\n			\n		\n	\n\n\n											\n\n	\n	\n		\n			Apr		\n		\n			22		\n	\n\n\n	\n		\n			\n\n				\n					\n		\n		April 22 @ 9:30 pm - 2:00 am\n\n	\n		\n\n	\n	\n	\n\n	\n\n	\n	\n\n	\n		\n\n	\n	\n	\n\n	\n\n\n					\n	\n		Karaoke	\n\n				\n\n				\n			\n		\n	\n\n\n											\n\n	\n	\n		\n			Apr		\n		\n			23		\n	\n\n\n	\n		\n			\n\n				\n					\n		\n		April 23 @ 9:30 pm - 2:00 am\n\n	\n		\n\n	\n	\n	\n\n	\n\n	\n	\n\n	\n		\n\n	\n	\n	\n\n	\n\n\n					\n	\n		Karaoke	\n\n				\n\n				\n			\n		\n	\n\n\n											\n\n	\n	\n		\n			Apr		\n		\n			27		\n	\n\n\n	\n		\n			\n\n				\n					\n		\n		April 27 @ 9:00 pm - 2:00 am	\n	\n\n	\n		\n\n	\n	\n	\n\n	\n\n\n					\n	\n		Industry Night	\n\n				\n\n				\n			\n		\n	\n\n\n											\n\n	\n	\n		\n			Apr		\n		\n			29		\n	\n\n\n	\n		\n			\n\n				\n					\n		\n		April 29 @ 9:30 pm - 2:00 am	\n	\n\n	\n		\n\n	\n	\n	\n\n	\n\n\n					\n	\n		Karaoke	\n\n				\n\n				\n			\n		\n	\n\n\n									\n\n				\n	\n		View Calendar
URL:https://khartoumlounge.com/event/karaoke/2026-04-22/
END:VEVENT
BEGIN:VEVENT
DTSTART;TZID=America/Los_Angeles:20260423T213000
DTEND;TZID=America/Los_Angeles:20260424T020000
DTSTAMP:20260418T195240
CREATED:20250411T053617Z
LAST-MODIFIED:20250423T170528Z
UID:10000837-1776979800-1776996000@khartoumlounge.com
SUMMARY:Karaoke
DESCRIPTION:DJ Davey K | Karaoke Thursdays \nSorry\, your browser doesn't support embedded videos.DJ Davey K | Karaoke Thursdays \nSorry\, your browser doesn't support embedded videos.\n	\n		\n\n			\n			\n\n							\n					\n						Upcoming Events					\n				\n			\n			\n				\n											\n\n	\n	\n		\n			Apr		\n		\n			20		\n	\n\n\n	\n		\n			\n\n				\n					\n		\n		April 20 @ 9:00 pm - 2:00 am\n\n	\n		\n\n	\n	\n	\n\n	\n\n	\n	\n\n	\n		\n\n	\n	\n	\n\n	\n\n\n					\n	\n		Industry Night	\n\n				\n\n				\n			\n		\n	\n\n\n											\n\n	\n	\n		\n			Apr		\n		\n			22		\n	\n\n\n	\n		\n			\n\n				\n					\n		\n		April 22 @ 9:30 pm - 2:00 am\n\n	\n		\n\n	\n	\n	\n\n	\n\n	\n	\n\n	\n		\n\n	\n	\n	\n\n	\n\n\n					\n	\n		Karaoke	\n\n				\n\n				\n			\n		\n	\n\n\n											\n\n	\n	\n		\n			Apr		\n		\n			23		\n	\n\n\n	\n		\n			\n\n				\n					\n		\n		April 23 @ 9:30 pm - 2:00 am\n\n	\n		\n\n	\n	\n	\n\n	\n\n	\n	\n\n	\n		\n\n	\n	\n	\n\n	\n\n\n					\n	\n		Karaoke	\n\n				\n\n				\n			\n		\n	\n\n\n											\n\n	\n	\n		\n			Apr		\n		\n			27		\n	\n\n\n	\n		\n			\n\n				\n					\n		\n		April 27 @ 9:00 pm - 2:00 am	\n	\n\n	\n		\n\n	\n	\n	\n\n	\n\n\n					\n	\n		Industry Night	\n\n				\n\n				\n			\n		\n	\n\n\n											\n\n	\n	\n		\n			Apr		\n		\n			29		\n	\n\n\n	\n		\n			\n\n				\n					\n		\n		April 29 @ 9:30 pm - 2:00 am	\n	\n\n	\n		\n\n	\n	\n	\n\n	\n\n\n					\n	\n		Karaoke	\n\n				\n\n				\n			\n		\n	\n\n\n									\n\n				\n	\n		View Calendar
URL:https://khartoumlounge.com/event/karaoke-2/2026-04-23/
END:VEVENT
BEGIN:VEVENT
DTSTART;TZID=America/Los_Angeles:20260427T210000
DTEND;TZID=America/Los_Angeles:20260428T020000
DTSTAMP:20260418T195240
CREATED:20250411T033907Z
LAST-MODIFIED:20250411T205243Z
UID:10000055-1777323600-1777341600@khartoumlounge.com
SUMMARY:Industry Night
DESCRIPTION:Bring in your Khartoum Industry Card and get 50% off any drink in the house. \n        View this post on Instagram            A post shared by Khartoum 🍻 (@khartoumlounge) \nBring in your Khartoum Industry Card and get 50% off any drink in the house. \n        View this post on Instagram            A post shared by Khartoum 🍻 (@khartoumlounge) \n\n	\n		\n\n			\n			\n\n							\n					\n						Upcoming Events					\n				\n			\n			\n				\n											\n\n	\n	\n		\n			Apr		\n		\n			20		\n	\n\n\n	\n		\n			\n\n				\n					\n		\n		April 20 @ 9:00 pm - 2:00 am\n\n	\n		\n\n	\n	\n	\n\n	\n\n	\n	\n\n	\n		\n\n	\n	\n	\n\n	\n\n\n					\n	\n		Industry Night	\n\n				\n\n				\n			\n		\n	\n\n\n											\n\n	\n	\n		\n			Apr		\n		\n			22		\n	\n\n\n	\n		\n			\n\n				\n					\n		\n		April 22 @ 9:30 pm - 2:00 am\n\n	\n		\n\n	\n	\n	\n\n	\n\n	\n	\n\n	\n		\n\n	\n	\n	\n\n	\n\n\n					\n	\n		Karaoke	\n\n				\n\n				\n			\n		\n	\n\n\n											\n\n	\n	\n		\n			Apr		\n		\n			23		\n	\n\n\n	\n		\n			\n\n				\n					\n		\n		April 23 @ 9:30 pm - 2:00 am\n\n	\n		\n\n	\n	\n	\n\n	\n\n	\n	\n\n	\n		\n\n	\n	\n	\n\n	\n\n\n					\n	\n		Karaoke	\n\n				\n\n				\n			\n		\n	\n\n\n											\n\n	\n	\n		\n			Apr		\n		\n			27		\n	\n\n\n	\n		\n			\n\n				\n					\n		\n		April 27 @ 9:00 pm - 2:00 am	\n	\n\n	\n		\n\n	\n	\n	\n\n	\n\n\n					\n	\n		Industry Night	\n\n				\n\n				\n			\n		\n	\n\n\n											\n\n	\n	\n		\n			Apr		\n		\n			29		\n	\n\n\n	\n		\n			\n\n				\n					\n		\n		April 29 @ 9:30 pm - 2:00 am	\n	\n\n	\n		\n\n	\n	\n	\n\n	\n\n\n					\n	\n		Karaoke	\n\n				\n\n				\n			\n		\n	\n\n\n									\n\n				\n	\n		View Calendar
URL:https://khartoumlounge.com/event/industry-night/2026-04-27/
END:VEVENT
BEGIN:VEVENT
DTSTART;TZID=America/Los_Angeles:20260429T213000
DTEND;TZID=America/Los_Angeles:20260430T020000
DTSTAMP:20260418T195240
CREATED:20250411T051758Z
LAST-MODIFIED:20250423T172226Z
UID:10000316-1777498200-1777514400@khartoumlounge.com
SUMMARY:Karaoke
DESCRIPTION:DJ Davey K | Karaoke Wednesdays \nSorry\, your browser doesn't support embedded videos.DJ Davey K | Karaoke Wednesdays \nSorry\, your browser doesn't support embedded videos.\n	\n		\n\n			\n			\n\n							\n					\n						Upcoming Events					\n				\n			\n			\n				\n											\n\n	\n	\n		\n			Apr		\n		\n			20		\n	\n\n\n	\n		\n			\n\n				\n					\n		\n		April 20 @ 9:00 pm - 2:00 am\n\n	\n		\n\n	\n	\n	\n\n	\n\n	\n	\n\n	\n		\n\n	\n	\n	\n\n	\n\n\n					\n	\n		Industry Night	\n\n				\n\n				\n			\n		\n	\n\n\n											\n\n	\n	\n		\n			Apr		\n		\n			22		\n	\n\n\n	\n		\n			\n\n				\n					\n		\n		April 22 @ 9:30 pm - 2:00 am\n\n	\n		\n\n	\n	\n	\n\n	\n\n	\n	\n\n	\n		\n\n	\n	\n	\n\n	\n\n\n					\n	\n		Karaoke	\n\n				\n\n				\n			\n		\n	\n\n\n											\n\n	\n	\n		\n			Apr		\n		\n			23		\n	\n\n\n	\n		\n			\n\n				\n					\n		\n		April 23 @ 9:30 pm - 2:00 am\n\n	\n		\n\n	\n	\n	\n\n	\n\n	\n	\n\n	\n		\n\n	\n	\n	\n\n	\n\n\n					\n	\n		Karaoke	\n\n				\n\n				\n			\n		\n	\n\n\n											\n\n	\n	\n		\n			Apr		\n		\n			27		\n	\n\n\n	\n		\n			\n\n				\n					\n		\n		April 27 @ 9:00 pm - 2:00 am	\n	\n\n	\n		\n\n	\n	\n	\n\n	\n\n\n					\n	\n		Industry Night	\n\n				\n\n				\n			\n		\n	\n\n\n											\n\n	\n	\n		\n			Apr		\n		\n			29		\n	\n\n\n	\n		\n			\n\n				\n					\n		\n		April 29 @ 9:30 pm - 2:00 am	\n	\n\n	\n		\n\n	\n	\n	\n\n	\n\n\n					\n	\n		Karaoke	\n\n				\n\n				\n			\n		\n	\n\n\n									\n\n				\n	\n		View Calendar
URL:https://khartoumlounge.com/event/karaoke/2026-04-29/
END:VEVENT
BEGIN:VEVENT
DTSTART;TZID=America/Los_Angeles:20260430T213000
DTEND;TZID=America/Los_Angeles:20260501T020000
DTSTAMP:20260418T195240
CREATED:20250411T053617Z
LAST-MODIFIED:20250423T170528Z
UID:10000838-1777584600-1777600800@khartoumlounge.com
SUMMARY:Karaoke
DESCRIPTION:DJ Davey K | Karaoke Thursdays \nSorry\, your browser doesn't support embedded videos.DJ Davey K | Karaoke Thursdays \nSorry\, your browser doesn't support embedded videos.\n	\n		\n\n			\n			\n\n							\n					\n						Upcoming Events					\n				\n			\n			\n				\n											\n\n	\n	\n		\n			Apr		\n		\n			20		\n	\n\n\n	\n		\n			\n\n				\n					\n		\n		April 20 @ 9:00 pm - 2:00 am\n\n	\n		\n\n	\n	\n	\n\n	\n\n	\n	\n\n	\n		\n\n	\n	\n	\n\n	\n\n\n					\n	\n		Industry Night	\n\n				\n\n				\n			\n		\n	\n\n\n											\n\n	\n	\n		\n			Apr		\n		\n			22		\n	\n\n\n	\n		\n			\n\n				\n					\n		\n		April 22 @ 9:30 pm - 2:00 am\n\n	\n		\n\n	\n	\n	\n\n	\n\n	\n	\n\n	\n		\n\n	\n	\n	\n\n	\n\n\n					\n	\n		Karaoke	\n\n				\n\n				\n			\n		\n	\n\n\n											\n\n	\n	\n		\n			Apr		\n		\n			23		\n	\n\n\n	\n		\n			\n\n				\n					\n		\n		April 23 @ 9:30 pm - 2:00 am\n\n	\n		\n\n	\n	\n	\n\n	\n\n	\n	\n\n	\n		\n\n	\n	\n	\n\n	\n\n\n					\n	\n		Karaoke	\n\n				\n\n				\n			\n		\n	\n\n\n											\n\n	\n	\n		\n			Apr		\n		\n			27		\n	\n\n\n	\n		\n			\n\n				\n					\n		\n		April 27 @ 9:00 pm - 2:00 am	\n	\n\n	\n		\n\n	\n	\n	\n\n	\n\n\n					\n	\n		Industry Night	\n\n				\n\n				\n			\n		\n	\n\n\n											\n\n	\n	\n		\n			Apr		\n		\n			29		\n	\n\n\n	\n		\n			\n\n				\n					\n		\n		April 29 @ 9:30 pm - 2:00 am	\n	\n\n	\n		\n\n	\n	\n	\n\n	\n\n\n					\n	\n		Karaoke	\n\n				\n\n				\n			\n		\n	\n\n\n									\n\n				\n	\n		View Calendar
URL:https://khartoumlounge.com/event/karaoke-2/2026-04-30/
END:VEVENT
END:VCALENDAR